BEGIN:VCALENDAR
VERSION:2.0
PRODID:-//rádi spolu - ECPv4.9.14//NONSGML v1.0//EN
CALSCALE:GREGORIAN
METHOD:PUBLISH
X-WR-CALNAME:rádi spolu
X-ORIGINAL-URL:http://www.radispolu.cz
X-WR-CALDESC:Events for rádi spolu
BEGIN:VTIMEZONE
TZID:Europe/Prague
BEGIN:DAYLIGHT
TZOFFSETFROM:+0100
TZOFFSETTO:+0200
TZNAME:CEST
DTSTART:20230326T010000
END:DAYLIGHT
BEGIN:STANDARD
TZOFFSETFROM:+0200
TZOFFSETTO:+0100
TZNAME:CET
DTSTART:20231029T010000
END:STANDARD
END:VTIMEZONE
BEGIN:VEVENT
DTSTART;TZID=Europe/Prague:20231125T093000
DTEND;TZID=Europe/Prague:20231125T160000
DTSTAMP:20260419T140702
CREATED:20231029T084226Z
LAST-MODIFIED:20231029T084226Z
UID:1236341-1700904600-1700928000@www.radispolu.cz
SUMMARY:PORNOGRAFIE V CÍRKVI? - vzdělávací konference OMR BJB
DESCRIPTION:  \n
URL:http://www.radispolu.cz/akce/pornografie-v-cirkvi-vzdelavaci-konference-omr-bjb/
LOCATION:Sborový dům BJB Pardubice\, Sladkovského 521/38\, Pardubice\, Pardubický\, Česká republika
ORGANIZER;CN="Odbor%20pro%20man%C5%BEelstv%C3%AD%20a%20rodinu%20BJB%20v%20%C4%8CR":MAILTO:marek@zitny.cz
END:VEVENT
END:VCALENDAR