BEGIN:VCALENDAR
VERSION:2.0
PRODID:-//rádi spolu - ECPv4.9.14//NONSGML v1.0//EN
CALSCALE:GREGORIAN
METHOD:PUBLISH
X-WR-CALNAME:rádi spolu
X-ORIGINAL-URL:http://www.radispolu.cz
X-WR-CALDESC:Events for rádi spolu
BEGIN:VTIMEZONE
TZID:Europe/Prague
BEGIN:DAYLIGHT
TZOFFSETFROM:+0100
TZOFFSETTO:+0200
TZNAME:CEST
DTSTART:20240331T010000
END:DAYLIGHT
BEGIN:STANDARD
TZOFFSETFROM:+0200
TZOFFSETTO:+0100
TZNAME:CET
DTSTART:20241027T010000
END:STANDARD
END:VTIMEZONE
BEGIN:VEVENT
DTSTART;TZID=Europe/Prague:20240213T180000
DTEND;TZID=Europe/Prague:20240213T200000
DTSTAMP:20260419T200439
CREATED:20240212T114511Z
LAST-MODIFIED:20240212T124429Z
UID:1236376-1707847200-1707854400@www.radispolu.cz
SUMMARY:Národní týden manželství - přednáška Kořeny a křídla - Příbor
DESCRIPTION: \nPokud byste měli zájem se akce zúčastnit\, přihlaste se u Martina Okáče na tel. 603 552 276 \n
URL:http://www.radispolu.cz/akce/narodni-tyden-manzelstvi-prednaska-koreny-a-kridla-pribor/
LOCATION:Sbor Bratrské jednoty baptistů v Příboře\, Frentštátská 166\, Příbor\, Česká republika
END:VEVENT
END:VCALENDAR