BEGIN:VCALENDAR
VERSION:2.0
PRODID:-//rádi spolu - ECPv4.9.14//NONSGML v1.0//EN
CALSCALE:GREGORIAN
METHOD:PUBLISH
X-WR-CALNAME:rádi spolu
X-ORIGINAL-URL:http://www.radispolu.cz
X-WR-CALDESC:Events for rádi spolu
BEGIN:VTIMEZONE
TZID:Europe/Prague
BEGIN:DAYLIGHT
TZOFFSETFROM:+0100
TZOFFSETTO:+0200
TZNAME:CEST
DTSTART:20240331T010000
END:DAYLIGHT
BEGIN:STANDARD
TZOFFSETFROM:+0200
TZOFFSETTO:+0100
TZNAME:CET
DTSTART:20241027T010000
END:STANDARD
END:VTIMEZONE
BEGIN:VEVENT
DTSTART;TZID=Europe/Prague:20240217T170000
DTEND;TZID=Europe/Prague:20240217T190000
DTSTAMP:20260419T234603
CREATED:20240212T133944Z
LAST-MODIFIED:20240212T133944Z
UID:1236385-1708189200-1708196400@www.radispolu.cz
SUMMARY:Národní týden manželství - přednáška Kořeny a křídla - Brniště
DESCRIPTION: \n
URL:http://www.radispolu.cz/akce/narodni-tyden-manzelstvi-prednaska-koreny-a-kridla-brniste/
LOCATION:Sborový dům Oáza\, Brniště 13\, Brniště\, Česká republika
END:VEVENT
END:VCALENDAR