BEGIN:VCALENDAR
VERSION:2.0
PRODID:-//rádi spolu - ECPv4.9.14//NONSGML v1.0//EN
CALSCALE:GREGORIAN
METHOD:PUBLISH
X-WR-CALNAME:rádi spolu
X-ORIGINAL-URL:http://www.radispolu.cz
X-WR-CALDESC:Events for rádi spolu
BEGIN:VTIMEZONE
TZID:Europe/Prague
BEGIN:DAYLIGHT
TZOFFSETFROM:+0100
TZOFFSETTO:+0200
TZNAME:CEST
DTSTART:20240331T010000
END:DAYLIGHT
BEGIN:STANDARD
TZOFFSETFROM:+0200
TZOFFSETTO:+0100
TZNAME:CET
DTSTART:20241027T010000
END:STANDARD
END:VTIMEZONE
BEGIN:VEVENT
DTSTART;TZID=Europe/Prague:20240305T183000
DTEND;TZID=Europe/Prague:20240305T210000
DTSTAMP:20260420T034756
CREATED:20240215T162502Z
LAST-MODIFIED:20240215T162720Z
UID:1236392-1709663400-1709672400@www.radispolu.cz
SUMMARY:Manželské večery - Brno-Bystrc
DESCRIPTION: \n
URL:http://www.radispolu.cz/akce/manzelske-vecery-5/
LOCATION:Centrum Runway Bystrc\, Vedle domu Teyschlova 20\, Brno - Bystrc\, Česká republika
ORGANIZER;CN="Odbor%20pro%20man%C5%BEelstv%C3%AD%20a%20rodinu%20a%20Runway%20Bystrc":MAILTO:marek@zitny.cz
END:VEVENT
END:VCALENDAR