BEGIN:VCALENDAR
VERSION:2.0
PRODID:-//rádi spolu - ECPv4.9.14//NONSGML v1.0//EN
CALSCALE:GREGORIAN
METHOD:PUBLISH
X-WR-CALNAME:rádi spolu
X-ORIGINAL-URL:http://www.radispolu.cz
X-WR-CALDESC:Events for rádi spolu
BEGIN:VTIMEZONE
TZID:Europe/Prague
BEGIN:DAYLIGHT
TZOFFSETFROM:+0100
TZOFFSETTO:+0200
TZNAME:CEST
DTSTART:20230326T010000
END:DAYLIGHT
BEGIN:STANDARD
TZOFFSETFROM:+0200
TZOFFSETTO:+0100
TZNAME:CET
DTSTART:20231029T010000
END:STANDARD
END:VTIMEZONE
BEGIN:VEVENT
DTSTART;TZID=Europe/Prague:20230216T190000
DTEND;TZID=Europe/Prague:20230216T200000
DTSTAMP:20260419T200538
CREATED:20230212T020110Z
LAST-MODIFIED:20230212T020110Z
UID:1236268-1676574000-1676577600@www.radispolu.cz
SUMMARY:MANŽELSKÉ KONTRASTY aneb jak se nám spolu žije
DESCRIPTION:Zveme vás na moderovaný rozhovor o životě uprostřed Národního týdne manželství. \n \n
URL:http://www.radispolu.cz/akce/manzelske-kontrasty-aneb-jak-se-nam-spolu-zije/
LOCATION:Sbor Bratrské jednoty baptistů\, Smetanova 20\, Brno\, Jihomoravský\, 602 00\, Česká republika
END:VEVENT
END:VCALENDAR