BEGIN:VCALENDAR
VERSION:2.0
PRODID:-//rádi spolu - ECPv4.9.14//NONSGML v1.0//EN
CALSCALE:GREGORIAN
METHOD:PUBLISH
X-WR-CALNAME:rádi spolu
X-ORIGINAL-URL:http://www.radispolu.cz
X-WR-CALDESC:Events for rádi spolu
BEGIN:VTIMEZONE
TZID:Europe/Prague
BEGIN:DAYLIGHT
TZOFFSETFROM:+0100
TZOFFSETTO:+0200
TZNAME:CEST
DTSTART:20230326T010000
END:DAYLIGHT
BEGIN:STANDARD
TZOFFSETFROM:+0200
TZOFFSETTO:+0100
TZNAME:CET
DTSTART:20231029T010000
END:STANDARD
END:VTIMEZONE
BEGIN:VEVENT
DTSTART;TZID=Europe/Prague:20230401T100000
DTEND;TZID=Europe/Prague:20230401T160000
DTSTAMP:20260419T161816
CREATED:20230311T231620Z
LAST-MODIFIED:20230311T231620Z
UID:1236294-1680343200-1680364800@www.radispolu.cz
SUMMARY:Konference pro rodiče v Chebu
DESCRIPTION:Zveme vás na Konferenci pro rodiče\, která proběhne 1.4.2023 v prostorách 1. sboru BJB v Chebu. Konference je určena nejen rodičům\, ale všem\, kteří se věnují dětem nebo je prostě připravená témata zajímají. Na konferenci bude opět zajištěno hlídání dětí i společný oběd. Přihlaste se\, prosím\, co nejdříve na emailové adrese david.slam@gmail.com \, nejpozději však do pondělí 27.3. \n \n \n
URL:http://www.radispolu.cz/akce/konference-pro-rodice-v-chebu/
LOCATION:Sbor Bratrské jednoty baptistů v Chebu I.\, Libušina 4\, Cheb\, 350 02\, Česká republika
ORGANIZER;CN="Odbor%20pro%20man%C5%BEelstv%C3%AD%20a%20rodinu%20BJB%20v%20%C4%8CR":MAILTO:marek@zitny.cz
END:VEVENT
END:VCALENDAR