BEGIN:VCALENDAR
VERSION:2.0
PRODID:-//rádi spolu - ECPv4.9.14//NONSGML v1.0//EN
CALSCALE:GREGORIAN
METHOD:PUBLISH
X-WR-CALNAME:rádi spolu
X-ORIGINAL-URL:http://www.radispolu.cz
X-WR-CALDESC:Events for rádi spolu
BEGIN:VTIMEZONE
TZID:Europe/Prague
BEGIN:DAYLIGHT
TZOFFSETFROM:+0100
TZOFFSETTO:+0200
TZNAME:CEST
DTSTART:20240331T010000
END:DAYLIGHT
BEGIN:STANDARD
TZOFFSETFROM:+0200
TZOFFSETTO:+0100
TZNAME:CET
DTSTART:20241027T010000
END:STANDARD
END:VTIMEZONE
BEGIN:VEVENT
DTSTART;TZID=Europe/Prague:20240127T093000
DTEND;TZID=Europe/Prague:20240127T160000
DTSTAMP:20260419T193551
CREATED:20240113T170409Z
LAST-MODIFIED:20240113T171101Z
UID:1236357-1706347800-1706371200@www.radispolu.cz
SUMMARY:Konference pro rodiče - Brno - Efektivní rodič?
DESCRIPTION: \n \nHlavními řečníky na konferenci budou manželé Brian a Pam Eichelbergerovi z USA. Brian a Pam jsou zapojeni ve službě lidem i Bohu již 38 let. Brian byl více než 30 let pastorem v různých křesťanských sborech v USA a společně s Pam sloužili také 7 let jako misionáři v České republice.  Mají šest dospělých dětí\, tři zetě a čtyři vnoučata.    V průběhu své služby se věnovali také předmanželskému\, manželskému i rodinnému poradenství. Během svého působení v České republice se zapojovali do konání Manželských večerů i programů pro rodiče. \nKonference je určena rodičům\, prarodičům i všem kteří se věnují dětem nebo je problematika výchovy a formování dětí ve vztahu k lidem i Bohu zajímá. \n
URL:http://www.radispolu.cz/akce/konference-pro-rodice-brno-efektivni-rodic/
LOCATION:Sborový dům Bratrské jerdnoty baptistů v Brně\, Smetanova 20\, Brno\, Jihomoravský\, 602 00\, Česká republika
ORGANIZER;CN="Odbor%20pro%20man%C5%BEelstv%C3%AD%20a%20rodinu%20BJB%20v%20%C4%8CR":MAILTO:marek@zitny.cz
END:VEVENT
END:VCALENDAR